BEGIN:VCALENDAR
VERSION:2.0
PRODID:-//The Hope Foundation - ECPv5.1.4//NONSGML v1.0//EN
CALSCALE:GREGORIAN
METHOD:PUBLISH
X-WR-CALNAME:The Hope Foundation
X-ORIGINAL-URL:http://hope-foundation.kdconnect.uk
X-WR-CALDESC:Events for The Hope Foundation
BEGIN:VTIMEZONE
TZID:UTC
BEGIN:STANDARD
TZOFFSETFROM:+0000
TZOFFSETTO:+0000
TZNAME:UTC
DTSTART:20130101T000000
END:STANDARD
END:VTIMEZONE
BEGIN:VEVENT
DTSTART;TZID=UTC:20131016T080000
DTEND;TZID=UTC:20131016T170059
DTSTAMP:20260426T013533
CREATED:20131008T110523Z
LAST-MODIFIED:20131008T111843Z
UID:2170-1381910400-1381942859@hope-foundation.kdconnect.uk
SUMMARY:Let's Get Digital Shopping
DESCRIPTION:Let’s Get Digital Shopping People spend less money when they shop online – you can plan what you want to buy\, compare prices and delivery times and control your budget all from a PC.  Learn how to do this securely. Learn how to pay for things online and keep your account safe. \nAlso in the run-up to Christmas shopping online can help you keep on top of your spending and even become a fundraiser! \nA free workshop you can turn up to on the day. If you’d like to book a place please call 01642 232220. \nTo see what else is going on at The Hope Foundation and HCLC for Get Online week\, visit the Get Online Week 2013 page. \n
URL:http://hope-foundation.kdconnect.uk/event/lets-get-digital-shopping/
CATEGORIES:Get Online Week,HCLC
ATTACH;FMTTYPE=image/jpeg:http://hope-foundation.kdconnect.uk/wp-content/uploads/2013/10/GOWlogo.jpg
END:VEVENT
BEGIN:VEVENT
DTSTART;TZID=UTC:20131016T090000
DTEND;TZID=UTC:20131016T090059
DTSTAMP:20260426T013533
CREATED:20131008T094852Z
LAST-MODIFIED:20131008T104539Z
UID:2162-1381914000-1381914059@hope-foundation.kdconnect.uk
SUMMARY:Let's Get Digital and Manage my Money
DESCRIPTION:Let’s Get Digital and Manage my Money will introduce you to some tools and techniques to help you control your budget. From online banking and shopping to money management tools there are plenty of things to discover to help you take control of your finances. \nA free workshop you can turn up to on the day. If you’d like to book a place please call 01642 232220. \n
URL:http://hope-foundation.kdconnect.uk/event/lets-get-digital-and-manage-my-money/
CATEGORIES:Courses,Get Online Week
ATTACH;FMTTYPE=image/jpeg:http://hope-foundation.kdconnect.uk/wp-content/uploads/2013/10/GOWlogo.jpg
END:VEVENT
BEGIN:VEVENT
DTSTART;TZID=UTC:20131016T130000
DTEND;TZID=UTC:20131016T150059
DTSTAMP:20260426T013533
CREATED:20131008T104923Z
LAST-MODIFIED:20131010T104728Z
UID:2165-1381928400-1381935659@hope-foundation.kdconnect.uk
SUMMARY:Let's Get Digital and Look After My Health
DESCRIPTION:Let’s Get Digital and Look After My Health. Use the internet to find information about being healthy and when and how to contact the health professionals who could help. \nA free workshop you can turn up to on the day. If you’d like to book a place please call 01642 232220. \nTo see what else is going on at The Hope Foundation and HCLC for Get Online week\, visit the Get Online Week 2013 page. \n
URL:http://hope-foundation.kdconnect.uk/event/lets-get-digital-and-look-after-my-health/
CATEGORIES:Courses,Get Online Week
ATTACH;FMTTYPE=image/jpeg:http://hope-foundation.kdconnect.uk/wp-content/uploads/2013/10/GOWlogo.jpg
END:VEVENT
END:VCALENDAR