BEGIN:VCALENDAR
VERSION:2.0
PRODID:-//The Hope Foundation - ECPv5.1.4//NONSGML v1.0//EN
CALSCALE:GREGORIAN
METHOD:PUBLISH
X-WR-CALNAME:The Hope Foundation
X-ORIGINAL-URL:http://hope-foundation.kdconnect.uk
X-WR-CALDESC:Events for The Hope Foundation
BEGIN:VTIMEZONE
TZID:UTC
BEGIN:STANDARD
TZOFFSETFROM:+0000
TZOFFSETTO:+0000
TZNAME:UTC
DTSTART:20130101T000000
END:STANDARD
END:VTIMEZONE
BEGIN:VEVENT
DTSTART;TZID=UTC:20130715T080000
DTEND;TZID=UTC:20130726T170059
DTSTAMP:20260420T000556
CREATED:20130520T105753Z
LAST-MODIFIED:20130520T105753Z
UID:2048-1373875200-1374858059@hope-foundation.kdconnect.uk
SUMMARY:B-Prepared
DESCRIPTION:Do you know about the sudden benefit changes from April 2013? \nDo you understand the impact on you and on your benefits? \nIf you answered “no”\, then B-Prepared is for you! \nB-Prepared is a 2-day training course which will teach you about: \n\nchanges in the benefits system\nhow changes will affect you\ngetting online to apply for benefits and jobs\n\nCall Andrea Robson on 01642 856030 to enrol \n
URL:http://hope-foundation.kdconnect.uk/event/b-prepared-4/
CATEGORIES:Courses - HCLC
ATTACH;FMTTYPE=image/png:http://hope-foundation.kdconnect.uk/wp-content/uploads/2013/03/Full-Colour.png
END:VEVENT
BEGIN:VEVENT
DTSTART;TZID=UTC:20130719T143000
DTEND;TZID=UTC:20130719T170059
DTSTAMP:20260420T000556
CREATED:20130625T091611Z
LAST-MODIFIED:20130625T092358Z
UID:2074-1374244200-1374253259@hope-foundation.kdconnect.uk
SUMMARY:Celebration of Achievement
DESCRIPTION: \nOnline event registration for Celebration of Achievement powered by Eventbrite\n\n
URL:http://hope-foundation.kdconnect.uk/event/celebration-of-achievement-3/
LOCATION:Linthorpe Methodist Church and Resource Centre\, 54 Borough Road\, Middlesbrough\, TS1 2JH\, Select a Country:
CATEGORIES:Community,HCLC
END:VEVENT
END:VCALENDAR