BEGIN:VCALENDAR
VERSION:2.0
PRODID:-//The Hope Foundation - ECPv5.1.4//NONSGML v1.0//EN
CALSCALE:GREGORIAN
METHOD:PUBLISH
X-WR-CALNAME:The Hope Foundation
X-ORIGINAL-URL:http://hope-foundation.kdconnect.uk
X-WR-CALDESC:Events for The Hope Foundation
BEGIN:VTIMEZONE
TZID:UTC
BEGIN:STANDARD
TZOFFSETFROM:+0000
TZOFFSETTO:+0000
TZNAME:UTC
DTSTART:20120101T000000
END:STANDARD
END:VTIMEZONE
BEGIN:VEVENT
DTSTART;TZID=UTC:20120924T080000
DTEND;TZID=UTC:20121130T170059
DTSTAMP:20260421T191911
CREATED:20120920T070005Z
LAST-MODIFIED:20120920T102228Z
UID:1308-1348473600-1354294859@hope-foundation.kdconnect.uk
SUMMARY:Jobs at Christmas
DESCRIPTION:Many retailers are recruiting for the Christmas season. \nMany of these retailers are recruiting online. \nAt The Hope Foundation Work Club we can direct you to employers who are recruiting and help you apply for positions online. \nIf you want to take it even further then sign up for our Work Skills qualification where you will learn valuable techniques about applying for jobs and impressing at interview or one of our IT courses so that next time you’ll have the computer skills to apply yourself. \nContact us for more information or to make an appointment. \n
URL:http://hope-foundation.kdconnect.uk/event/jobs-at-christmas/
CATEGORIES:News
ORGANIZER;CN="Unnamed%20Organizer":MAILTO:info@hope-foundation.org.uk
END:VEVENT
BEGIN:VEVENT
DTSTART;TZID=UTC:20121105T080000
DTEND;TZID=UTC:20121109T170059
DTSTAMP:20260421T191911
CREATED:20120928T094521Z
LAST-MODIFIED:20120928T094521Z
UID:1346-1352102400-1352480459@hope-foundation.kdconnect.uk
SUMMARY:Life and Living Skills
DESCRIPTION:An 8-week course where you can learn: \n\nHealthy Living Skills\nDeveloping Self\nPersonal Security\nPersonal Hygiene\nEmotional Wellbeing\nMaking Good Use of your Leisure Time\nDealing with Everyday Problems\n\nand it’s taught in all sorts of ways – some parts will be in a class with a teacher\, some will be online and some in workbooks. \nContact us for more information or to sign up. \n
URL:http://hope-foundation.kdconnect.uk/event/life-and-living-skills-2/
CATEGORIES:Courses
ATTACH;FMTTYPE=image/jpeg:http://hope-foundation.kdconnect.uk/wp-content/uploads/2012/09/OCR1.jpg
ORGANIZER;CN="The%20Hope%20Foundation":MAILTO:info@hope-foundation.org.uk
END:VEVENT
END:VCALENDAR