BEGIN:VCALENDAR
VERSION:2.0
PRODID:-//The Hope Foundation - ECPv5.1.4//NONSGML v1.0//EN
CALSCALE:GREGORIAN
METHOD:PUBLISH
X-WR-CALNAME:The Hope Foundation
X-ORIGINAL-URL:http://hope-foundation.kdconnect.uk
X-WR-CALDESC:Events for The Hope Foundation
BEGIN:VTIMEZONE
TZID:UTC
BEGIN:STANDARD
TZOFFSETFROM:+0000
TZOFFSETTO:+0000
TZNAME:UTC
DTSTART:20120101T000000
END:STANDARD
END:VTIMEZONE
BEGIN:VEVENT
DTSTART;TZID=UTC:20120801T080000
DTEND;TZID=UTC:20120930T170059
DTSTAMP:20260424T195804
CREATED:20120830T125932Z
LAST-MODIFIED:20120910T142942Z
UID:1179-1343808000-1349024459@hope-foundation.kdconnect.uk
SUMMARY:Discounts on computers
DESCRIPTION:From 1st August until 30th September Friends IT is giving an extra £5 off the purchase price of a £99 desktop computer or a £169 laptop to Hope Foundation learners. \nYou can view both items on the Friends IT website and orders can be placed online or over the telephone. \nYou can pick up the discount code in centre and it is valid for 8 weeks from 1st August until 30th September. \n
URL:http://hope-foundation.kdconnect.uk/event/discounts-on-computers/
CATEGORIES:News
END:VEVENT
BEGIN:VEVENT
DTSTART;TZID=UTC:20120810T140000
DTEND;TZID=UTC:20120810T160059
DTSTAMP:20260424T195804
CREATED:20120713T141407Z
LAST-MODIFIED:20120910T133722Z
UID:1172-1344607200-1344614459@hope-foundation.kdconnect.uk
SUMMARY:Celebration of Achievement
DESCRIPTION:The Hope Foundation Celebration of Achievement will be taking place on Friday 10th August. \nThis is a great opportunity to celebrate the hard work of our learners\, hear some of their stories and to tell you all about what we have planned for next year. \nPlease let us know if you are expecting certificates or would like to come. \n
URL:http://hope-foundation.kdconnect.uk/event/celebration-of-achievement/
ORGANIZER;CN="The%20Hope%20Foundation":MAILTO:veronicastamp@hope-foundation.org.uk
END:VEVENT
END:VCALENDAR